BEGIN:VCALENDAR
VERSION:2.0
PRODID:-//Love Life Coaching &amp; Events - ECPv6.15.17.1//NONSGML v1.0//EN
CALSCALE:GREGORIAN
METHOD:PUBLISH
X-WR-CALNAME:Love Life Coaching &amp; Events
X-ORIGINAL-URL:https://www.lovelifecoaching-events.co.uk
X-WR-CALDESC:Events for Love Life Coaching &amp; Events
REFRESH-INTERVAL;VALUE=DURATION:PT1H
X-Robots-Tag:noindex
X-PUBLISHED-TTL:PT1H
BEGIN:VTIMEZONE
TZID:UTC
BEGIN:STANDARD
TZOFFSETFROM:+0000
TZOFFSETTO:+0000
TZNAME:UTC
DTSTART:20240101T000000
END:STANDARD
END:VTIMEZONE
BEGIN:VEVENT
DTSTART;TZID=UTC:20251123T110000
DTEND;TZID=UTC:20251123T170000
DTSTAMP:20260420T055509
CREATED:20250801T085255Z
LAST-MODIFIED:20250801T085255Z
UID:3469-1763895600-1763917200@www.lovelifecoaching-events.co.uk
SUMMARY:Love Life Again - Growth\, Healing & Connection
DESCRIPTION:Have you experienced Grief\, Trauma or Loss & are struggling to move your life forward? \nPlease come along to this wonderful event on Sunday 23rd November at Sutton Coldfield Town Hall\, which will help & guide you to heal\, grow & connect with others. \nThe event will include: \n\n\n 	Stalls of local healers\n 	Spiritual guides\,\n 	Holistical health\n 	And much more.\n\nGuest Speakers – Lucy Cole\, Grief/Trauma Healing & Wellness Coach (event organiser). \nHer personal journey on grief\, healing & growth. \nPurchase your tickets here: https://www.eventbrite.com/e/1416870460689?aff=oddtdtcreator \nIf you are interested in reserving a stall\, please email me: lucy@lovelifecoaching-events.co.uk
URL:https://www.lovelifecoaching-events.co.uk/event/growth-healing-and-connection/
LOCATION:Sutton Coldfield Town Hall\, Upper Clifton Rd\, The Royal Town of Sutton Coldfield\, Birmingham\, Sutton Coldfield\, B73 6DA\, United Kingdom
CATEGORIES:Events
ATTACH;FMTTYPE=image/webp:https://www.lovelifecoaching-events.co.uk/wp-content/uploads/2024/08/cropped-29.webp
ORGANIZER;CN="Lucy Cole":MAILTO:lucy@lovelifecoaching-events.co.uk
END:VEVENT
BEGIN:VEVENT
DTSTART;TZID=UTC:20260517T120000
DTEND;TZID=UTC:20260517T150000
DTSTAMP:20260420T055509
CREATED:20260324T084538Z
LAST-MODIFIED:20260416T144643Z
UID:4275-1779019200-1779030000@www.lovelifecoaching-events.co.uk
SUMMARY:Deep Healing\, Mindfulness & Wellbeing Events - Sunday 17th May 2026
DESCRIPTION:Includes the following: \n\n\n 	Cold Water swim/dip\n 	Nature walk around the lake\n 	Mindfulness Coaching session\n 	Yoga & Meditation\n\nTime – 12pm – 3pm \nCost – £49.00 \nVenue – Midlands Open Water\, Tamworth Road\, Kingsbury\, B78 2HZ
URL:https://www.lovelifecoaching-events.co.uk/event/deep-healing-mindfulness-wellbeing-events-sunday-17th-may-2026/
LOCATION:Midlands Open Water\, Midlands Open Water\, Tamworth Road\, Kingsbury\, B78 2HZ\, United Kingdom
CATEGORIES:Events
ORGANIZER;CN="Lucy Cole":MAILTO:lucy@lovelifecoaching-events.co.uk
END:VEVENT
BEGIN:VEVENT
DTSTART;TZID=UTC:20260816T120000
DTEND;TZID=UTC:20260816T150000
DTSTAMP:20260420T055509
CREATED:20260324T090640Z
LAST-MODIFIED:20260416T144658Z
UID:4284-1786881600-1786892400@www.lovelifecoaching-events.co.uk
SUMMARY:Deep Healing\, Mindfulness & Wellbeing Events - Sunday 16th August 2026
DESCRIPTION:Includes the following: \n\n\n 	Cold Water swim/dip\n 	Nature walk around the lake\n 	Mindfulness Coaching session\n 	Yoga & Meditation\n\nTime – 12pm – 3pm \nCost – £49.00 \nVenue – Midlands Open Water\, Tamworth Road\, Kingsbury\, B78 2HZ
URL:https://www.lovelifecoaching-events.co.uk/event/deep-healing-mindfulness-wellbeing-events-sunday-16th-august-2026/
LOCATION:Midlands Open Water\, Midlands Open Water\, Tamworth Road\, Kingsbury\, B78 2HZ\, United Kingdom
CATEGORIES:Events
ORGANIZER;CN="Lucy Cole":MAILTO:lucy@lovelifecoaching-events.co.uk
END:VEVENT
BEGIN:VEVENT
DTSTART;TZID=UTC:20260913T120000
DTEND;TZID=UTC:20260913T150000
DTSTAMP:20260420T055509
CREATED:20260324T090915Z
LAST-MODIFIED:20260416T143740Z
UID:4287-1789300800-1789311600@www.lovelifecoaching-events.co.uk
SUMMARY:Deep Healing\, Mindfulness & Wellbeing Events - Sunday 13th September 2026
DESCRIPTION:Includes the following: \n\n\n 	Cold Water swim/dip\n 	Nature walk around the lake\n 	Mindfulness Coaching session\n 	Yoga & Meditation\n\nTime – 12pm – 3pm \nCost – £49.00 \nVenue – Midlands Open Water\, Tamworth Road\, Kingsbury\, B78 2HZ
URL:https://www.lovelifecoaching-events.co.uk/event/deep-healing-mindfulness-wellbeing-events-sunday-13th-september-2026/
LOCATION:Midlands Open Water\, Midlands Open Water\, Tamworth Road\, Kingsbury\, B78 2HZ\, United Kingdom
CATEGORIES:Events
ORGANIZER;CN="Lucy Cole":MAILTO:lucy@lovelifecoaching-events.co.uk
END:VEVENT
BEGIN:VEVENT
DTSTART;TZID=UTC:20261018T110000
DTEND;TZID=UTC:20261018T170000
DTSTAMP:20260420T055509
CREATED:20260324T091741Z
LAST-MODIFIED:20260324T091741Z
UID:4293-1792321200-1792342800@www.lovelifecoaching-events.co.uk
SUMMARY:Family Wellbeing & Mindfulness Festival | Sunday 18th October 2026
DESCRIPTION:Growth\, Healing & Connection Event \n\n\n 	Wellbeing Workshops including yoga\, reiki\, sound baths\, EFT\, Hypnotherapy & more.\n 	A selection of stalls with Holistic Health Specialists\n 	Holistic Treatments including massage\, facials\, crystal healing & more.\n 	Motivational Talks\n 	Spiritual readings & connection\n\nDate: Sunday 18th October \nTime: 11am – 5pm \nVenue: Sutton Coldfield Town Hall\, Sutton Coldfield \nCost: £10 per adult | £5 per child (over 11 only).
URL:https://www.lovelifecoaching-events.co.uk/event/family-wellbeing-mindfulness-festival-sunday-18th-october-2026/
LOCATION:Sutton Coldfield Town Hall\, Upper Clifton Rd\, The Royal Town of Sutton Coldfield\, Birmingham\, Sutton Coldfield\, B73 6DA\, United Kingdom
CATEGORIES:Events
ORGANIZER;CN="Lucy Cole":MAILTO:lucy@lovelifecoaching-events.co.uk
END:VEVENT
END:VCALENDAR